Workbook

Sheet (はじめにお読み下さい)申請書の使い方
A2: 本申請書の使い方、申請の手順
A4: 手順 | B4: 事業者（法人本部）の作業 | C4: 各事業所等の作業
A5: 1 | B5: 本Excelを各事業所に配布し、以下の様式への記入を依頼 ・別添１－２（個票）
A6: =A5+1 -> 2 | C6: 以下の作業を行った上で、事業者（法人本部）へ返送 【別添１－２（個票）】 ・水色セル：必要情報を入力 ・緑色セル：プルダウンから選択
A7: =A6+1 -> 3 | B7: 各事業所の個票のシートを１つのExcelファイルに集約し、個票シート名を「個票●」（●は１からの通し番号）に修正
A8: =A7+1 -> 4 | B8: 別添１－２（個票）の内容が、別添１－１（申請・精算額一覧）に正しく反映されていることを確認 ※15事業所以上ある場合には6行目～15行目を行ごとコピーし、16行目に右クリック→「コピーしたセルの挿入」で挿入すること。
A9: =A8+1 -> 5 | B9: 申請書に、申請者の法人名、代表者名、日付、問い合わせ先を入力
A10: =A9+1 -> 6 | B10: 完成したExcelファイルを県の委託事業者に送付

Sheet 申請書
A1: 第１号様式（第４関係）
AC3: 令和 | AF3: 年 | AI3: 月 | AL3: 日
A5: 青森県知事 | I5: 殿
Q7: 申請者 | U7: 法人住所
U8: 法人名称
U9: 代表者職氏名
A11: 令和８年度青森県障害福祉サービス等継続支援事業費補助金交付申請兼実績報告書
A14: 令和８年度青森県障害福祉サービス等継続支援事業について、補助金の交付を受けたい ので、青森県補助金等の交付に関する規則第３条の規定により、関係書類を添えて下記の とおり申請します。
S15: 記
B16: １ 補助金交付申請兼実績報告額 | R16: 金 | S16: =申請・精算額一覧!I105*1000 -> 0 | AB16: 円
B19: ２ 添付書類
B20: （１）事業所・施設別申請・精算額一覧（別添１－１）
B21: （２）令和８年度障害福祉サービス等継続支援事業に関する事業実績報告書（事業所・施設単位）
D22: （別添１－２）
B23: （３）振込口座が確認できる書類（通帳の表紙及び通帳を開いた１・２ページ目の写し）
T26: 【申請内容に関する問い合わせ先】
U28: 担当者氏名
U29: 連絡先 | Y29: 電話番号

Sheet 申請・精算額一覧
A1: （別添１－１）事業所・施設別申請・精算額一覧
A3: No. | B3: 事業所・施設名 | C3: 障害福祉サービス 事業所番号 | D3: サービス種別 | E3: 住所 | F3: 定員 | G3: 補助申請・精算額（千円） | J3: 審査 結果
G4: 障害福祉サービス等継続支援事業（設備・備品分） | H4: 障害福祉サービス等継続支援事業（食事提供分） | I4: 合計
A5: =ROW()-4 -> 1 | B5: =IFERROR(INDIRECT("個票"&$A5&"！$t$7"),"") -> 0 | C5: =IFERROR(INDIRECT("個票"&$A5&"！$h$7"),"") -> 0 | D5: =IFERROR(INDIRECT("個票"&$A5&"！$l$10"),"") -> 0 | E5: =IFERROR(INDIRECT("個票"&$A5&"！$d$9"),"") -> 0 | F5: =IFERROR(INDIRECT("個票"&$A5&"！$aｊ$10"),"") -> 0 | G5: =IFERROR(INDIRECT("個票"&$A5&"！$ai$2２"),"") | H5: =IFERROR(INDIRECT("個票"&$A5&"！$ai$4２"),"") | I5: =SUM(G5,H5) -> 0
A6: =ROW()-4 -> 2 | B6: =IFERROR(INDIRECT("個票"&$A6&"！$t$7"),"") -> 0 | C6: =IFERROR(INDIRECT("個票"&$A6&"！$h$7"),"") -> 0 | D6: =IFERROR(INDIRECT("個票"&$A6&"！$l$10"),"") -> 0 | E6: =IFERROR(INDIRECT("個票"&$A6&"！$d$9"),"") -> 0 | F6: =IFERROR(INDIRECT("個票"&$A6&"！$aｊ$10"),"") -> 0 | G6: =IFERROR(INDIRECT("個票"&$A6&"！$ai$2２"),"") | H6: =IFERROR(INDIRECT("個票"&$A6&"！$ai$4２"),"") | I6: =SUM(G6,H6) -> 0
A7: =ROW()-4 -> 3 | B7: =IFERROR(INDIRECT("個票"&$A7&"！$t$7"),"") -> 0 | C7: =IFERROR(INDIRECT("個票"&$A7&"！$h$7"),"") -> 0 | D7: =IFERROR(INDIRECT("個票"&$A7&"！$l$10"),"") -> 0 | E7: =IFERROR(INDIRECT("個票"&$A7&"！$d$9"),"") -> 0 | F7: =IFERROR(INDIRECT("個票"&$A7&"！$aｊ$10"),"") -> 0 | G7: =IFERROR(INDIRECT("個票"&$A7&"！$ai$2２"),"") | H7: =IFERROR(INDIRECT("個票"&$A7&"！$ai$4２"),"") | I7: =SUM(G7,H7) -> 0
A8: =ROW()-4 -> 4 | B8: =IFERROR(INDIRECT("個票"&$A8&"！$t$7"),"") -> 0 | C8: =IFERROR(INDIRECT("個票"&$A8&"！$h$7"),"") -> 0 | D8: =IFERROR(INDIRECT("個票"&$A8&"！$l$10"),"") -> 0 | E8: =IFERROR(INDIRECT("個票"&$A8&"！$d$9"),"") -> 0 | F8: =IFERROR(INDIRECT("個票"&$A8&"！$aｊ$10"),"") -> 0 | G8: =IFERROR(INDIRECT("個票"&$A8&"！$ai$2２"),"") | H8: =IFERROR(INDIRECT("個票"&$A8&"！$ai$4２"),"") | I8: =SUM(G8,H8) -> 0
A9: =ROW()-4 -> 5 | B9: =IFERROR(INDIRECT("個票"&$A9&"！$t$7"),"") -> 0 | C9: =IFERROR(INDIRECT("個票"&$A9&"！$h$7"),"") -> 0 | D9: =IFERROR(INDIRECT("個票"&$A9&"！$l$10"),"") -> 0 | E9: =IFERROR(INDIRECT("個票"&$A9&"！$d$9"),"") -> 0 | F9: =IFERROR(INDIRECT("個票"&$A9&"！$aｊ$10"),"") -> 0 | G9: =IFERROR(INDIRECT("個票"&$A9&"！$ai$2２"),"") | H9: =IFERROR(INDIRECT("個票"&$A9&"！$ai$4２"),"") | I9: =SUM(G9,H9) -> 0
A10: =ROW()-4 -> 6 | B10: =IFERROR(INDIRECT("個票"&$A10&"！$t$7"),"") -> 0 | C10: =IFERROR(INDIRECT("個票"&$A10&"！$h$7"),"") -> 0 | D10: =IFERROR(INDIRECT("個票"&$A10&"！$l$10"),"") -> 0 | E10: =IFERROR(INDIRECT("個票"&$A10&"！$d$9"),"") -> 0 | F10: =IFERROR(INDIRECT("個票"&$A10&"！$aｊ$10"),"") -> 0 | G10: =IFERROR(INDIRECT("個票"&$A10&"！$ai$2２"),"") | H10: =IFERROR(INDIRECT("個票"&$A10&"！$ai$4２"),"") | I10: =SUM(G10,H10) -> 0
A11: =ROW()-4 -> 7 | B11: =IFERROR(INDIRECT("個票"&$A11&"！$t$7"),"") -> 0 | C11: =IFERROR(INDIRECT("個票"&$A11&"！$h$7"),"") -> 0 | D11: =IFERROR(INDIRECT("個票"&$A11&"！$l$10"),"") -> 0 | E11: =IFERROR(INDIRECT("個票"&$A11&"！$d$9"),"") -> 0 | F11: =IFERROR(INDIRECT("個票"&$A11&"！$aｊ$10"),"") -> 0 | G11: =IFERROR(INDIRECT("個票"&$A11&"！$ai$2２"),"") | H11: =IFERROR(INDIRECT("個票"&$A11&"！$ai$4２"),"") | I11: =SUM(G11,H11) -> 0
A12: =ROW()-4 -> 8 | B12: =IFERROR(INDIRECT("個票"&$A12&"！$t$7"),"") -> 0 | C12: =IFERROR(INDIRECT("個票"&$A12&"！$h$7"),"") -> 0 | D12: =IFERROR(INDIRECT("個票"&$A12&"！$l$10"),"") -> 0 | E12: =IFERROR(INDIRECT("個票"&$A12&"！$d$9"),"") -> 0 | F12: =IFERROR(INDIRECT("個票"&$A12&"！$aｊ$10"),"") -> 0 | G12: =IFERROR(INDIRECT("個票"&$A12&"！$ai$2２"),"") | H12: =IFERROR(INDIRECT("個票"&$A12&"！$ai$4２"),"") | I12: =SUM(G12,H12) -> 0
A13: =ROW()-4 -> 9 | B13: =IFERROR(INDIRECT("個票"&$A13&"！$t$7"),"") -> 0 | C13: =IFERROR(INDIRECT("個票"&$A13&"！$h$7"),"") -> 0 | D13: =IFERROR(INDIRECT("個票"&$A13&"！$l$10"),"") -> 0 | E13: =IFERROR(INDIRECT("個票"&$A13&"！$d$9"),"") -> 0 | F13: =IFERROR(INDIRECT("個票"&$A13&"！$aｊ$10"),"") -> 0 | G13: =IFERROR(INDIRECT("個票"&$A13&"！$ai$2２"),"") | H13: =IFERROR(INDIRECT("個票"&$A13&"！$ai$4２"),"") | I13: =SUM(G13,H13) -> 0
A14: =ROW()-4 -> 10 | B14: =IFERROR(INDIRECT("個票"&$A14&"！$t$7"),"") -> 0 | C14: =IFERROR(INDIRECT("個票"&$A14&"！$h$7"),"") -> 0 | D14: =IFERROR(INDIRECT("個票"&$A14&"！$l$10"),"") -> 0 | E14: =IFERROR(INDIRECT("個票"&$A14&"！$d$9"),"") -> 0 | F14: =IFERROR(INDIRECT("個票"&$A14&"！$aｊ$10"),"") -> 0 | G14: =IFERROR(INDIRECT("個票"&$A14&"！$ai$2２"),"") | H14: =IFERROR(INDIRECT("個票"&$A14&"！$ai$4２"),"") | I14: =SUM(G14,H14) -> 0
A15: =ROW()-4 -> 11 | B15: =IFERROR(INDIRECT("個票"&$A15&"！$t$7"),"") -> 0 | C15: =IFERROR(INDIRECT("個票"&$A15&"！$h$7"),"") -> 0 | D15: =IFERROR(INDIRECT("個票"&$A15&"！$l$10"),"") -> 0 | E15: =IFERROR(INDIRECT("個票"&$A15&"！$d$9"),"") -> 0 | F15: =IFERROR(INDIRECT("個票"&$A15&"！$aｊ$10"),"") -> 0 | G15: =IFERROR(INDIRECT("個票"&$A15&"！$ai$2２"),"") | H15: =IFERROR(INDIRECT("個票"&$A15&"！$ai$4２"),"") | I15: =SUM(G15,H15) -> 0
A16: =ROW()-4 -> 12 | B16: =IFERROR(INDIRECT("個票"&$A16&"！$t$7"),"") -> 0 | C16: =IFERROR(INDIRECT("個票"&$A16&"！$h$7"),"") -> 0 | D16: =IFERROR(INDIRECT("個票"&$A16&"！$l$10"),"") -> 0 | E16: =IFERROR(INDIRECT("個票"&$A16&"！$d$9"),"") -> 0 | F16: =IFERROR(INDIRECT("個票"&$A16&"！$aｊ$10"),"") -> 0 | G16: =IFERROR(INDIRECT("個票"&$A16&"！$ai$2２"),"") | H16: =IFERROR(INDIRECT("個票"&$A16&"！$ai$4２"),"") | I16: =SUM(G16,H16) -> 0
... A104: =ROW()-4 -> 100 | B104: =IFERROR(INDIRECT("個票"&$A104&"！$t$7"),"") | C104: =IFERROR(INDIRECT("個票"&$A104&"！$h$7"),"") | D104: =IFERROR(INDIRECT("個票"&$A104&"！$l$10"),"") | E104: =IFERROR(INDIRECT("個票"&$A104&"！$d$9"),"") | F104: =IFERROR(INDIRECT("個票"&$A104&"！$aｊ$10"),"") | G104: =IFERROR(INDIRECT("個票"&$A104&"！$ai$2２"),"") | H104: =IFERROR(INDIRECT("個票"&$A104&"！$ai$4２"),"") | I104: =SUM(G104,H104) -> 0
B105: 合計 | I105: =SUM(I5:I104) -> 0
A107: （注）行が不足する場合には、「本申請書の使い方」に従って、行を追加すること。列の挿入は絶対に行わないこと。

Sheet 個票1
A1: （別添１－２）
A3: 令和８年度障害福祉サービス等継続支援事業に関する事業実績報告書（事業所・施設単位）
A5: 事業所・施設概要
A7: 事業所番号 | O7: 名称
A8: 所在地 | D8: 住所 | Y8: 連絡先 | AB8: 電話番号
A10: 提供サービス（プルダウンから選択） | AG10: 定員 | AL10: 人
A11: 事業区分 | J11: 設備・備品分 | Z11: 食事提供分
A13: 申請にあたっての確認事項
A15: 領収書等の根拠資料は事業所等において適切に保管している。
A16: 支出予定の費用について、他の補助金等と重複は生じていない。
A17: 消費税は含んでいない。
A19: 支出済額
A21: １．障害福祉サービス等継続支援事業（設備・備品分） | AD21: 補助上限額 | AI21: 申請兼実績額
AD22: =IFERROR(VLOOKUP(L10,リスト!I2:J48,2,FALSE),IFERROR(VLOOKUP(L10,リスト!I49:J51,2,FALSE)*AJ10,"")) | AG22: 千円 | AI22: =IF(AD22="","",MIN(AD22,ROUNDDOWN((AF30+AF39)/1000,0))) | AL22: 千円
A23: 【障害福祉サービスを円滑に継続するための対応】
A24: 品名 | H24: 用途 | AB24: 数量（単位） | AF24: 支出済額（円）※税抜き
A30: 合計 | AF30: =SUM(AF25:AM29) -> 0
A32: 【災害備蓄等への対応】
A33: 品名 | H33: 用途 | AB33: 数量（単位） | AF33: 支出済額（円）※税抜き
A39: 合計 | AF39: =SUM(AF34:AM38) -> 0
A41: ２．障害福祉サービス等継続支援事業（食事提供分） | AD41: 補助上限額 | AI41: 申請兼実績額
AD42: =IFERROR(VLOOKUP(L10,リスト!N2:Q39,4,FALSE)*AJ10,"") | AG42: 千円 | AI42: =IF(AD42="","",MIN(AD42,ROUNDDOWN(AF50/1000,0))) | AL42: 千円
A44: 品名 | H44: 用途 | AB44: 数量（単位） | AF44: 支出済額（円）※税抜き
A50: 合計 | AF50: =SUM(AF45:AM49) -> 0
A52: （注）申請兼実績額は、補助上限額と支出済額を比較していずれか低い方の額が入力される。

Sheet 個票2
A1: （別添１－２）
A3: 令和８年度障害福祉サービス等継続支援事業に関する事業実績報告書（事業所・施設単位）
A5: 事業所・施設概要
A7: 事業所番号 | O7: 名称
A8: 所在地 | D8: 住所 | Y8: 連絡先 | AB8: 電話番号
A10: 提供サービス（プルダウンから選択） | AG10: 定員 | AL10: 人
A11: 事業区分 | J11: 設備・備品分 | Z11: 食事提供分
A13: 申請にあたっての確認事項
A15: 領収書等の根拠資料は事業所等において適切に保管している。
A16: 支出予定の費用について、他の補助金等と重複は生じていない。
A17: 消費税は含んでいない。
A19: 支出済額
A21: １．障害福祉サービス等継続支援事業（設備・備品分） | AD21: 補助上限額 | AI21: 申請兼実績額
AD22: =IFERROR(VLOOKUP(L10,リスト!I2:J48,2,FALSE),IFERROR(VLOOKUP(L10,リスト!I49:J51,2,FALSE)*AJ10,"")) | AG22: 千円 | AI22: =IF(AD22="","",MIN(AD22,ROUNDDOWN((AF30+AF39)/1000,0))) | AL22: 千円
A23: 【障害福祉サービスを円滑に継続するための対応】
A24: 品名 | H24: 用途 | AB24: 数量（単位） | AF24: 支出済額（円）※税抜き
A30: 合計 | AF30: =SUM(AF25:AM29) -> 0
A32: 【災害備蓄等への対応】
A33: 品名 | H33: 用途 | AB33: 数量（単位） | AF33: 支出済額（円）※税抜き
A39: 合計 | AF39: =SUM(AF34:AM38) -> 0
A41: ２．障害福祉サービス等継続支援事業（食事提供分） | AD41: 補助上限額 | AI41: 申請兼実績額
AD42: =IFERROR(VLOOKUP(L10,リスト!N2:Q39,4,FALSE)*AJ10,"") | AG42: 千円 | AI42: =IF(AD42="","",MIN(AD42,ROUNDDOWN(AF50/1000,0))) | AL42: 千円
A44: 品名 | H44: 用途 | AB44: 数量（単位） | AF44: 支出済額（円）※税抜き
A50: 合計 | AF50: =SUM(AF45:AM49) -> 0
A52: （注）申請兼実績額は、補助上限額と支出済額を比較していずれか低い方の額が入力される。

Sheet 個票3
A1: （別添１－２）
A3: 令和８年度障害福祉サービス等継続支援事業に関する事業実績報告書（事業所・施設単位）
A5: 事業所・施設概要
A7: 事業所番号 | O7: 名称
A8: 所在地 | D8: 住所 | Y8: 連絡先 | AB8: 電話番号
A10: 提供サービス（プルダウンから選択） | AG10: 定員 | AL10: 人
A11: 事業区分 | J11: 設備・備品分 | Z11: 食事提供分
A13: 申請にあたっての確認事項
A15: 領収書等の根拠資料は事業所等において適切に保管している。
A16: 支出予定の費用について、他の補助金等と重複は生じていない。
A17: 消費税は含んでいない。
A19: 支出済額
A21: １．障害福祉サービス等継続支援事業（設備・備品分） | AD21: 補助上限額 | AI21: 申請兼実績額
AD22: =IFERROR(VLOOKUP(L10,リスト!I2:J48,2,FALSE),IFERROR(VLOOKUP(L10,リスト!I49:J51,2,FALSE)*AJ10,"")) | AG22: 千円 | AI22: =IF(AD22="","",MIN(AD22,ROUNDDOWN((AF30+AF39)/1000,0))) | AL22: 千円
A23: 【障害福祉サービスを円滑に継続するための対応】
A24: 品名 | H24: 用途 | AB24: 数量（単位） | AF24: 支出済額（円）※税抜き
A30: 合計 | AF30: =SUM(AF25:AM29) -> 0
A32: 【災害備蓄等への対応】
A33: 品名 | H33: 用途 | AB33: 数量（単位） | AF33: 支出済額（円）※税抜き
A39: 合計 | AF39: =SUM(AF34:AM38) -> 0
A41: ２．障害福祉サービス等継続支援事業（食事提供分） | AD41: 補助上限額 | AI41: 申請兼実績額
AD42: =IFERROR(VLOOKUP(L10,リスト!N2:Q39,4,FALSE)*AJ10,"") | AG42: 千円 | AI42: =IF(AD42="","",MIN(AD42,ROUNDDOWN(AF50/1000,0))) | AL42: 千円
A44: 品名 | H44: 用途 | AB44: 数量（単位） | AF44: 支出済額（円）※税抜き
A50: 合計 | AF50: =SUM(AF45:AM49) -> 0
A52: （注）申請兼実績額は、補助上限額と支出済額を比較していずれか低い方の額が入力される。

Sheet 個票4
A1: （別添１－２）
A3: 令和８年度障害福祉サービス等継続支援事業に関する事業実績報告書（事業所・施設単位）
A5: 事業所・施設概要
A7: 事業所番号 | O7: 名称
A8: 所在地 | D8: 住所 | Y8: 連絡先 | AB8: 電話番号
A10: 提供サービス（プルダウンから選択） | AG10: 定員 | AL10: 人
A11: 事業区分 | J11: 設備・備品分 | Z11: 食事提供分
A13: 申請にあたっての確認事項
A15: 領収書等の根拠資料は事業所等において適切に保管している。
A16: 支出予定の費用について、他の補助金等と重複は生じていない。
A17: 消費税は含んでいない。
A19: 支出済額
A21: １．障害福祉サービス等継続支援事業（設備・備品分） | AD21: 補助上限額 | AI21: 申請兼実績額
AD22: =IFERROR(VLOOKUP(L10,リスト!I2:J48,2,FALSE),IFERROR(VLOOKUP(L10,リスト!I49:J51,2,FALSE)*AJ10,"")) | AG22: 千円 | AI22: =IF(AD22="","",MIN(AD22,ROUNDDOWN((AF30+AF39)/1000,0))) | AL22: 千円
A23: 【障害福祉サービスを円滑に継続するための対応】
A24: 品名 | H24: 用途 | AB24: 数量（単位） | AF24: 支出済額（円）※税抜き
A30: 合計 | AF30: =SUM(AF25:AM29) -> 0
A32: 【災害備蓄等への対応】
A33: 品名 | H33: 用途 | AB33: 数量（単位） | AF33: 支出済額（円）※税抜き
A39: 合計 | AF39: =SUM(AF34:AM38) -> 0
A41: ２．障害福祉サービス等継続支援事業（食事提供分） | AD41: 補助上限額 | AI41: 申請兼実績額
AD42: =IFERROR(VLOOKUP(L10,リスト!N2:Q39,4,FALSE)*AJ10,"") | AG42: 千円 | AI42: =IF(AD42="","",MIN(AD42,ROUNDDOWN(AF50/1000,0))) | AL42: 千円
A44: 品名 | H44: 用途 | AB44: 数量（単位） | AF44: 支出済額（円）※税抜き
A50: 合計 | AF50: =SUM(AF45:AM49) -> 0
A52: （注）申請兼実績額は、補助上限額と支出済額を比較していずれか低い方の額が入力される。

Sheet 個票5
A1: （別添１－２）
A3: 令和８年度障害福祉サービス等継続支援事業に関する事業実績報告書（事業所・施設単位）
A5: 事業所・施設概要
A7: 事業所番号 | O7: 名称
A8: 所在地 | D8: 住所 | Y8: 連絡先 | AB8: 電話番号
A10: 提供サービス（プルダウンから選択） | AG10: 定員 | AL10: 人
A11: 事業区分 | J11: 設備・備品分 | Z11: 食事提供分
A13: 申請にあたっての確認事項
A15: 領収書等の根拠資料は事業所等において適切に保管している。
A16: 支出予定の費用について、他の補助金等と重複は生じていない。
A17: 消費税は含んでいない。
A19: 支出済額
A21: １．障害福祉サービス等継続支援事業（設備・備品分） | AD21: 補助上限額 | AI21: 申請兼実績額
AD22: =IFERROR(VLOOKUP(L10,リスト!I2:J48,2,FALSE),IFERROR(VLOOKUP(L10,リスト!I49:J51,2,FALSE)*AJ10,"")) | AG22: 千円 | AI22: =IF(AD22="","",MIN(AD22,ROUNDDOWN((AF30+AF39)/1000,0))) | AL22: 千円
A23: 【障害福祉サービスを円滑に継続するための対応】
A24: 品名 | H24: 用途 | AB24: 数量（単位） | AF24: 支出済額（円）※税抜き
A30: 合計 | AF30: =SUM(AF25:AM29) -> 0
A32: 【災害備蓄等への対応】
A33: 品名 | H33: 用途 | AB33: 数量（単位） | AF33: 支出済額（円）※税抜き
A39: 合計 | AF39: =SUM(AF34:AM38) -> 0
A41: ２．障害福祉サービス等継続支援事業（食事提供分） | AD41: 補助上限額 | AI41: 申請兼実績額
AD42: =IFERROR(VLOOKUP(L10,リスト!N2:Q39,4,FALSE)*AJ10,"") | AG42: 千円 | AI42: =IF(AD42="","",MIN(AD42,ROUNDDOWN(AF50/1000,0))) | AL42: 千円
A44: 品名 | H44: 用途 | AB44: 数量（単位） | AF44: 支出済額（円）※税抜き
A50: 合計 | AF50: =SUM(AF45:AM49) -> 0
A52: （注）申請兼実績額は、補助上限額と支出済額を比較していずれか低い方の額が入力される。

Sheet 個票6
A1: （別添１－２）
A3: 令和８年度障害福祉サービス等継続支援事業に関する事業実績報告書（事業所・施設単位）
A5: 事業所・施設概要
A7: 事業所番号 | O7: 名称
A8: 所在地 | D8: 住所 | Y8: 連絡先 | AB8: 電話番号
A10: 提供サービス（プルダウンから選択） | AG10: 定員 | AL10: 人
A11: 事業区分 | J11: 設備・備品分 | Z11: 食事提供分
A13: 申請にあたっての確認事項
A15: 領収書等の根拠資料は事業所等において適切に保管している。
A16: 支出予定の費用について、他の補助金等と重複は生じていない。
A17: 消費税は含んでいない。
A19: 支出済額
A21: １．障害福祉サービス等継続支援事業（設備・備品分） | AD21: 補助上限額 | AI21: 申請兼実績額
AD22: =IFERROR(VLOOKUP(L10,リスト!I2:J48,2,FALSE),IFERROR(VLOOKUP(L10,リスト!I49:J51,2,FALSE)*AJ10,"")) | AG22: 千円 | AI22: =IF(AD22="","",MIN(AD22,ROUNDDOWN((AF30+AF39)/1000,0))) | AL22: 千円
A23: 【障害福祉サービスを円滑に継続するための対応】
A24: 品名 | H24: 用途 | AB24: 数量（単位） | AF24: 支出済額（円）※税抜き
A30: 合計 | AF30: =SUM(AF25:AM29) -> 0
A32: 【災害備蓄等への対応】
A33: 品名 | H33: 用途 | AB33: 数量（単位） | AF33: 支出済額（円）※税抜き
A39: 合計 | AF39: =SUM(AF34:AM38) -> 0
A41: ２．障害福祉サービス等継続支援事業（食事提供分） | AD41: 補助上限額 | AI41: 申請兼実績額
AD42: =IFERROR(VLOOKUP(L10,リスト!N2:Q39,4,FALSE)*AJ10,"") | AG42: 千円 | AI42: =IF(AD42="","",MIN(AD42,ROUNDDOWN(AF50/1000,0))) | AL42: 千円
A44: 品名 | H44: 用途 | AB44: 数量（単位） | AF44: 支出済額（円）※税抜き
A50: 合計 | AF50: =SUM(AF45:AM49) -> 0
A52: （注）申請兼実績額は、補助上限額と支出済額を比較していずれか低い方の額が入力される。

Sheet 個票7
A1: （別添１－２）
A3: 令和８年度障害福祉サービス等継続支援事業に関する事業実績報告書（事業所・施設単位）
A5: 事業所・施設概要
A7: 事業所番号 | O7: 名称
A8: 所在地 | D8: 住所 | Y8: 連絡先 | AB8: 電話番号
A10: 提供サービス（プルダウンから選択） | AG10: 定員 | AL10: 人
A11: 事業区分 | J11: 設備・備品分 | Z11: 食事提供分
A13: 申請にあたっての確認事項
A15: 領収書等の根拠資料は事業所等において適切に保管している。
A16: 支出予定の費用について、他の補助金等と重複は生じていない。
A17: 消費税は含んでいない。
A19: 支出済額
A21: １．障害福祉サービス等継続支援事業（設備・備品分） | AD21: 補助上限額 | AI21: 申請兼実績額
AD22: =IFERROR(VLOOKUP(L10,リスト!I2:J48,2,FALSE),IFERROR(VLOOKUP(L10,リスト!I49:J51,2,FALSE)*AJ10,"")) | AG22: 千円 | AI22: =IF(AD22="","",MIN(AD22,ROUNDDOWN((AF30+AF39)/1000,0))) | AL22: 千円
A23: 【障害福祉サービスを円滑に継続するための対応】
A24: 品名 | H24: 用途 | AB24: 数量（単位） | AF24: 支出済額（円）※税抜き
A30: 合計 | AF30: =SUM(AF25:AM29) -> 0
A32: 【災害備蓄等への対応】
A33: 品名 | H33: 用途 | AB33: 数量（単位） | AF33: 支出済額（円）※税抜き
A39: 合計 | AF39: =SUM(AF34:AM38) -> 0
A41: ２．障害福祉サービス等継続支援事業（食事提供分） | AD41: 補助上限額 | AI41: 申請兼実績額
AD42: =IFERROR(VLOOKUP(L10,リスト!N2:Q39,4,FALSE)*AJ10,"") | AG42: 千円 | AI42: =IF(AD42="","",MIN(AD42,ROUNDDOWN(AF50/1000,0))) | AL42: 千円
A44: 品名 | H44: 用途 | AB44: 数量（単位） | AF44: 支出済額（円）※税抜き
A50: 合計 | AF50: =SUM(AF45:AM49) -> 0
A52: （注）申請兼実績額は、補助上限額と支出済額を比較していずれか低い方の額が入力される。

Sheet 個票8
A1: （別添１－２）
A3: 令和８年度障害福祉サービス等継続支援事業に関する事業実績報告書（事業所・施設単位）
A5: 事業所・施設概要
A7: 事業所番号 | O7: 名称
A8: 所在地 | D8: 住所 | Y8: 連絡先 | AB8: 電話番号
A10: 提供サービス（プルダウンから選択） | AG10: 定員 | AL10: 人
A11: 事業区分 | J11: 設備・備品分 | Z11: 食事提供分
A13: 申請にあたっての確認事項
A15: 領収書等の根拠資料は事業所等において適切に保管している。
A16: 支出予定の費用について、他の補助金等と重複は生じていない。
A17: 消費税は含んでいない。
A19: 支出済額
A21: １．障害福祉サービス等継続支援事業（設備・備品分） | AD21: 補助上限額 | AI21: 申請兼実績額
AD22: =IFERROR(VLOOKUP(L10,リスト!I2:J48,2,FALSE),IFERROR(VLOOKUP(L10,リスト!I49:J51,2,FALSE)*AJ10,"")) | AG22: 千円 | AI22: =IF(AD22="","",MIN(AD22,ROUNDDOWN((AF30+AF39)/1000,0))) | AL22: 千円
A23: 【障害福祉サービスを円滑に継続するための対応】
A24: 品名 | H24: 用途 | AB24: 数量（単位） | AF24: 支出済額（円）※税抜き
A30: 合計 | AF30: =SUM(AF25:AM29) -> 0
A32: 【災害備蓄等への対応】
A33: 品名 | H33: 用途 | AB33: 数量（単位） | AF33: 支出済額（円）※税抜き
A39: 合計 | AF39: =SUM(AF34:AM38) -> 0
A41: ２．障害福祉サービス等継続支援事業（食事提供分） | AD41: 補助上限額 | AI41: 申請兼実績額
AD42: =IFERROR(VLOOKUP(L10,リスト!N2:Q39,4,FALSE)*AJ10,"") | AG42: 千円 | AI42: =IF(AD42="","",MIN(AD42,ROUNDDOWN(AF50/1000,0))) | AL42: 千円
A44: 品名 | H44: 用途 | AB44: 数量（単位） | AF44: 支出済額（円）※税抜き
A50: 合計 | AF50: =SUM(AF45:AM49) -> 0
A52: （注）申請兼実績額は、補助上限額と支出済額を比較していずれか低い方の額が入力される。

Sheet 個票9
A1: （別添１－２）
A3: 令和８年度障害福祉サービス等継続支援事業に関する事業実績報告書（事業所・施設単位）
A5: 事業所・施設概要
A7: 事業所番号 | O7: 名称
A8: 所在地 | D8: 住所 | Y8: 連絡先 | AB8: 電話番号
A10: 提供サービス（プルダウンから選択） | AG10: 定員 | AL10: 人
A11: 事業区分 | J11: 設備・備品分 | Z11: 食事提供分
A13: 申請にあたっての確認事項
A15: 領収書等の根拠資料は事業所等において適切に保管している。
A16: 支出予定の費用について、他の補助金等と重複は生じていない。
A17: 消費税は含んでいない。
A19: 支出済額
A21: １．障害福祉サービス等継続支援事業（設備・備品分） | AD21: 補助上限額 | AI21: 申請兼実績額
AD22: =IFERROR(VLOOKUP(L10,リスト!I2:J48,2,FALSE),IFERROR(VLOOKUP(L10,リスト!I49:J51,2,FALSE)*AJ10,"")) | AG22: 千円 | AI22: =IF(AD22="","",MIN(AD22,ROUNDDOWN((AF30+AF39)/1000,0))) | AL22: 千円
A23: 【障害福祉サービスを円滑に継続するための対応】
A24: 品名 | H24: 用途 | AB24: 数量（単位） | AF24: 支出済額（円）※税抜き
A30: 合計 | AF30: =SUM(AF25:AM29) -> 0
A32: 【災害備蓄等への対応】
A33: 品名 | H33: 用途 | AB33: 数量（単位） | AF33: 支出済額（円）※税抜き
A39: 合計 | AF39: =SUM(AF34:AM38) -> 0
A41: ２．障害福祉サービス等継続支援事業（食事提供分） | AD41: 補助上限額 | AI41: 申請兼実績額
AD42: =IFERROR(VLOOKUP(L10,リスト!N2:Q39,4,FALSE)*AJ10,"") | AG42: 千円 | AI42: =IF(AD42="","",MIN(AD42,ROUNDDOWN(AF50/1000,0))) | AL42: 千円
A44: 品名 | H44: 用途 | AB44: 数量（単位） | AF44: 支出済額（円）※税抜き
A50: 合計 | AF50: =SUM(AF45:AM49) -> 0
A52: （注）申請兼実績額は、補助上限額と支出済額を比較していずれか低い方の額が入力される。

Sheet 個票10
A1: （別添１－２）
A3: 令和８年度障害福祉サービス等継続支援事業に関する事業実績報告書（事業所・施設単位）
A5: 事業所・施設概要
A7: 事業所番号 | O7: 名称
A8: 所在地 | D8: 住所 | Y8: 連絡先 | AB8: 電話番号
A10: 提供サービス（プルダウンから選択） | AG10: 定員 | AL10: 人
A11: 事業区分 | J11: 設備・備品分 | Z11: 食事提供分
A13: 申請にあたっての確認事項
A15: 領収書等の根拠資料は事業所等において適切に保管している。
A16: 支出予定の費用について、他の補助金等と重複は生じていない。
A17: 消費税は含んでいない。
A19: 支出済額
A21: １．障害福祉サービス等継続支援事業（設備・備品分） | AD21: 補助上限額 | AI21: 申請兼実績額
AD22: =IFERROR(VLOOKUP(L10,リスト!I2:J48,2,FALSE),IFERROR(VLOOKUP(L10,リスト!I49:J51,2,FALSE)*AJ10,"")) | AG22: 千円 | AI22: =IF(AD22="","",MIN(AD22,ROUNDDOWN((AF30+AF39)/1000,0))) | AL22: 千円
A23: 【障害福祉サービスを円滑に継続するための対応】
A24: 品名 | H24: 用途 | AB24: 数量（単位） | AF24: 支出済額（円）※税抜き
A30: 合計 | AF30: =SUM(AF25:AM29) -> 0
A32: 【災害備蓄等への対応】
A33: 品名 | H33: 用途 | AB33: 数量（単位） | AF33: 支出済額（円）※税抜き
A39: 合計 | AF39: =SUM(AF34:AM38) -> 0
A41: ２．障害福祉サービス等継続支援事業（食事提供分） | AD41: 補助上限額 | AI41: 申請兼実績額
AD42: =IFERROR(VLOOKUP(L10,リスト!N2:Q39,4,FALSE)*AJ10,"") | AG42: 千円 | AI42: =IF(AD42="","",MIN(AD42,ROUNDDOWN(AF50/1000,0))) | AL42: 千円
A44: 品名 | H44: 用途 | AB44: 数量（単位） | AF44: 支出済額（円）※税抜き
A50: 合計 | AF50: =SUM(AF45:AM49) -> 0
A52: （注）申請兼実績額は、補助上限額と支出済額を比較していずれか低い方の額が入力される。

Sheet 個票11
A1: （別添１－２）
A3: 令和８年度障害福祉サービス等継続支援事業に関する事業実績報告書（事業所・施設単位）
A5: 事業所・施設概要
A7: 事業所番号 | O7: 名称
A8: 所在地 | D8: 住所 | Y8: 連絡先 | AB8: 電話番号
A10: 提供サービス（プルダウンから選択） | AG10: 定員 | AL10: 人
A11: 事業区分 | J11: 設備・備品分 | Z11: 食事提供分
A13: 申請にあたっての確認事項
A15: 領収書等の根拠資料は事業所等において適切に保管している。
A16: 支出予定の費用について、他の補助金等と重複は生じていない。
A17: 消費税は含んでいない。
A19: 支出済額
A21: １．障害福祉サービス等継続支援事業（設備・備品分） | AD21: 補助上限額 | AI21: 申請兼実績額
AD22: =IFERROR(VLOOKUP(L10,リスト!I2:J48,2,FALSE),IFERROR(VLOOKUP(L10,リスト!I49:J51,2,FALSE)*AJ10,"")) | AG22: 千円 | AI22: =IF(AD22="","",MIN(AD22,ROUNDDOWN((AF30+AF39)/1000,0))) | AL22: 千円
A23: 【障害福祉サービスを円滑に継続するための対応】
A24: 品名 | H24: 用途 | AB24: 数量（単位） | AF24: 支出済額（円）※税抜き
A30: 合計 | AF30: =SUM(AF25:AM29) -> 0
A32: 【災害備蓄等への対応】
A33: 品名 | H33: 用途 | AB33: 数量（単位） | AF33: 支出済額（円）※税抜き
A39: 合計 | AF39: =SUM(AF34:AM38) -> 0
A41: ２．障害福祉サービス等継続支援事業（食事提供分） | AD41: 補助上限額 | AI41: 申請兼実績額
AD42: =IFERROR(VLOOKUP(L10,リスト!N2:Q39,4,FALSE)*AJ10,"") | AG42: 千円 | AI42: =IF(AD42="","",MIN(AD42,ROUNDDOWN(AF50/1000,0))) | AL42: 千円
A44: 品名 | H44: 用途 | AB44: 数量（単位） | AF44: 支出済額（円）※税抜き
A50: 合計 | AF50: =SUM(AF45:AM49) -> 0
A52: （注）申請兼実績額は、補助上限額と支出済額を比較していずれか低い方の額が入力される。

Sheet 個票12
A1: （別添１－２）
A3: 令和８年度障害福祉サービス等継続支援事業に関する事業実績報告書（事業所・施設単位）
A5: 事業所・施設概要
A7: 事業所番号 | O7: 名称
A8: 所在地 | D8: 住所 | Y8: 連絡先 | AB8: 電話番号
A10: 提供サービス（プルダウンから選択） | AG10: 定員 | AL10: 人
A11: 事業区分 | J11: 設備・備品分 | Z11: 食事提供分
A13: 申請にあたっての確認事項
A15: 領収書等の根拠資料は事業所等において適切に保管している。
A16: 支出予定の費用について、他の補助金等と重複は生じていない。
A17: 消費税は含んでいない。
A19: 支出済額
A21: １．障害福祉サービス等継続支援事業（設備・備品分） | AD21: 補助上限額 | AI21: 申請兼実績額
AD22: =IFERROR(VLOOKUP(L10,リスト!I2:J48,2,FALSE),IFERROR(VLOOKUP(L10,リスト!I49:J51,2,FALSE)*AJ10,"")) | AG22: 千円 | AI22: =IF(AD22="","",MIN(AD22,ROUNDDOWN((AF30+AF39)/1000,0))) | AL22: 千円
A23: 【障害福祉サービスを円滑に継続するための対応】
A24: 品名 | H24: 用途 | AB24: 数量（単位） | AF24: 支出済額（円）※税抜き
A30: 合計 | AF30: =SUM(AF25:AM29) -> 0
A32: 【災害備蓄等への対応】
A33: 品名 | H33: 用途 | AB33: 数量（単位） | AF33: 支出済額（円）※税抜き
A39: 合計 | AF39: =SUM(AF34:AM38) -> 0
A41: ２．障害福祉サービス等継続支援事業（食事提供分） | AD41: 補助上限額 | AI41: 申請兼実績額
AD42: =IFERROR(VLOOKUP(L10,リスト!N2:Q39,4,FALSE)*AJ10,"") | AG42: 千円 | AI42: =IF(AD42="","",MIN(AD42,ROUNDDOWN(AF50/1000,0))) | AL42: 千円
A44: 品名 | H44: 用途 | AB44: 数量（単位） | AF44: 支出済額（円）※税抜き
A50: 合計 | AF50: =SUM(AF45:AM49) -> 0
A52: （注）申請兼実績額は、補助上限額と支出済額を比較していずれか低い方の額が入力される。

Sheet 個票13
A1: （別添１－２）
A3: 令和８年度障害福祉サービス等継続支援事業に関する事業実績報告書（事業所・施設単位）
A5: 事業所・施設概要
A7: 事業所番号 | O7: 名称
A8: 所在地 | D8: 住所 | Y8: 連絡先 | AB8: 電話番号
A10: 提供サービス（プルダウンから選択） | AG10: 定員 | AL10: 人
A11: 事業区分 | J11: 設備・備品分 | Z11: 食事提供分
A13: 申請にあたっての確認事項
A15: 領収書等の根拠資料は事業所等において適切に保管している。
A16: 支出予定の費用について、他の補助金等と重複は生じていない。
A17: 消費税は含んでいない。
A19: 支出済額
A21: １．障害福祉サービス等継続支援事業（設備・備品分） | AD21: 補助上限額 | AI21: 申請兼実績額
AD22: =IFERROR(VLOOKUP(L10,リスト!I2:J48,2,FALSE),IFERROR(VLOOKUP(L10,リスト!I49:J51,2,FALSE)*AJ10,"")) | AG22: 千円 | AI22: =IF(AD22="","",MIN(AD22,ROUNDDOWN((AF30+AF39)/1000,0))) | AL22: 千円
A23: 【障害福祉サービスを円滑に継続するための対応】
A24: 品名 | H24: 用途 | AB24: 数量（単位） | AF24: 支出済額（円）※税抜き
A30: 合計 | AF30: =SUM(AF25:AM29) -> 0
A32: 【災害備蓄等への対応】
A33: 品名 | H33: 用途 | AB33: 数量（単位） | AF33: 支出済額（円）※税抜き
A39: 合計 | AF39: =SUM(AF34:AM38) -> 0
A41: ２．障害福祉サービス等継続支援事業（食事提供分） | AD41: 補助上限額 | AI41: 申請兼実績額
AD42: =IFERROR(VLOOKUP(L10,リスト!N2:Q39,4,FALSE)*AJ10,"") | AG42: 千円 | AI42: =IF(AD42="","",MIN(AD42,ROUNDDOWN(AF50/1000,0))) | AL42: 千円
A44: 品名 | H44: 用途 | AB44: 数量（単位） | AF44: 支出済額（円）※税抜き
A50: 合計 | AF50: =SUM(AF45:AM49) -> 0
A52: （注）申請兼実績額は、補助上限額と支出済額を比較していずれか低い方の額が入力される。

Sheet 個票14
A1: （別添１－２）
A3: 令和８年度障害福祉サービス等継続支援事業に関する事業実績報告書（事業所・施設単位）
A5: 事業所・施設概要
A7: 事業所番号 | O7: 名称
A8: 所在地 | D8: 住所 | Y8: 連絡先 | AB8: 電話番号
A10: 提供サービス（プルダウンから選択） | AG10: 定員 | AL10: 人
A11: 事業区分 | J11: 設備・備品分 | Z11: 食事提供分
A13: 申請にあたっての確認事項
A15: 領収書等の根拠資料は事業所等において適切に保管している。
A16: 支出予定の費用について、他の補助金等と重複は生じていない。
A17: 消費税は含んでいない。
A19: 支出済額
A21: １．障害福祉サービス等継続支援事業（設備・備品分） | AD21: 補助上限額 | AI21: 申請兼実績額
AD22: =IFERROR(VLOOKUP(L10,リスト!I2:J48,2,FALSE),IFERROR(VLOOKUP(L10,リスト!I49:J51,2,FALSE)*AJ10,"")) | AG22: 千円 | AI22: =IF(AD22="","",MIN(AD22,ROUNDDOWN((AF30+AF39)/1000,0))) | AL22: 千円
A23: 【障害福祉サービスを円滑に継続するための対応】
A24: 品名 | H24: 用途 | AB24: 数量（単位） | AF24: 支出済額（円）※税抜き
A30: 合計 | AF30: =SUM(AF25:AM29) -> 0
A32: 【災害備蓄等への対応】
A33: 品名 | H33: 用途 | AB33: 数量（単位） | AF33: 支出済額（円）※税抜き
A39: 合計 | AF39: =SUM(AF34:AM38) -> 0
A41: ２．障害福祉サービス等継続支援事業（食事提供分） | AD41: 補助上限額 | AI41: 申請兼実績額
AD42: =IFERROR(VLOOKUP(L10,リスト!N2:Q39,4,FALSE)*AJ10,"") | AG42: 千円 | AI42: =IF(AD42="","",MIN(AD42,ROUNDDOWN(AF50/1000,0))) | AL42: 千円
A44: 品名 | H44: 用途 | AB44: 数量（単位） | AF44: 支出済額（円）※税抜き
A50: 合計 | AF50: =SUM(AF45:AM49) -> 0
A52: （注）申請兼実績額は、補助上限額と支出済額を比較していずれか低い方の額が入力される。

Sheet 個票15
A1: （別添１－２）
A3: 令和８年度障害福祉サービス等継続支援事業に関する事業実績報告書（事業所・施設単位）
A5: 事業所・施設概要
A7: 事業所番号 | O7: 名称
A8: 所在地 | D8: 住所 | Y8: 連絡先 | AB8: 電話番号
A10: 提供サービス（プルダウンから選択） | AG10: 定員 | AL10: 人
A11: 事業区分 | J11: 設備・備品分 | Z11: 食事提供分
A13: 申請にあたっての確認事項
A15: 領収書等の根拠資料は事業所等において適切に保管している。
A16: 支出予定の費用について、他の補助金等と重複は生じていない。
A17: 消費税は含んでいない。
A19: 支出済額
A21: １．障害福祉サービス等継続支援事業（設備・備品分） | AD21: 補助上限額 | AI21: 申請兼実績額
AD22: =IFERROR(VLOOKUP(L10,リスト!I2:J48,2,FALSE),IFERROR(VLOOKUP(L10,リスト!I49:J51,2,FALSE)*AJ10,"")) | AG22: 千円 | AI22: =IF(AD22="","",MIN(AD22,ROUNDDOWN((AF30+AF39)/1000,0))) | AL22: 千円
A23: 【障害福祉サービスを円滑に継続するための対応】
A24: 品名 | H24: 用途 | AB24: 数量（単位） | AF24: 支出済額（円）※税抜き
A30: 合計 | AF30: =SUM(AF25:AM29) -> 0
A32: 【災害備蓄等への対応】
A33: 品名 | H33: 用途 | AB33: 数量（単位） | AF33: 支出済額（円）※税抜き
A39: 合計 | AF39: =SUM(AF34:AM38) -> 0
A41: ２．障害福祉サービス等継続支援事業（食事提供分） | AD41: 補助上限額 | AI41: 申請兼実績額
AD42: =IFERROR(VLOOKUP(L10,リスト!N2:Q39,4,FALSE)*AJ10,"") | AG42: 千円 | AI42: =IF(AD42="","",MIN(AD42,ROUNDDOWN(AF50/1000,0))) | AL42: 千円
A44: 品名 | H44: 用途 | AB44: 数量（単位） | AF44: 支出済額（円）※税抜き
A50: 合計 | AF50: =SUM(AF45:AM49) -> 0
A52: （注）申請兼実績額は、補助上限額と支出済額を比較していずれか低い方の額が入力される。

Sheet 記入例
A1: （別添１－２）
A3: 令和８年度障害福祉サービス等継続支援事業に関する事業実績報告書（事業所・施設単位）
A5: 事業所・施設概要
A7: 事業所番号 | H7: 1111111111 | O7: 名称 | T7: 〇〇施設
A8: 所在地 | D8: 住所 | Y8: 連絡先 | AB8: 電話番号
D9: 青森県青森市・・・・・ | AB9: 012-34-5678
A10: 提供サービス（プルダウンから選択） | L10: 就労選択支援 1月あたり延べ利用者数300人以下 | AG10: 定員 | AJ10: 10 | AL10: 人
A11: 事業区分 | J11: 設備・備品分 | Z11: 食事提供分
A13: 申請にあたっての確認事項
A15: 領収書等の根拠資料は事業所等において適切に保管している。 | X15: ✔
A16: 支出予定の費用について、他の補助金等と重複は生じていない。 | X16: ✔
A17: 消費税は含んでいない。 | X17: ✔
A19: 支出済額
A21: １．障害福祉サービス事業所等に対するサービス継続支援事業（設備・備品分） | AD21: 補助上限額 | AI21: 申請兼実績額
AD22: =IFERROR(VLOOKUP(L10,リスト!I2:J48,2,FALSE),IFERROR(VLOOKUP(L10,リスト!I49:J51,2,FALSE)*AJ10,"")) -> 200 | AG22: 千円 | AI22: =MIN(AD22,ROUNDDOWN((AF30+AF39)/1000,0)) -> 200 | AL22: 千円
A23: 【障害福祉サービスを円滑に継続するための対応】
A24: 品名 | H24: 用途 | AB24: 数量（単位） | AF24: 支出済額（円）※税抜き
A25: ネッククーラー | H25: 猛暑対策のため | AB25: 10 | AF25: 50000
A30: 合計 | AF30: =SUM(AF25:AM29) -> 50000
A32: 【災害備蓄等への対応】
A33: 品名 | H33: 用途 | AB33: 数量（単位） | AF33: 支出済額（円）※税抜き
A34: ポータブル発電機 | H34: 災害時の停電対策のため | AB34: 5 | AF34: 1000000
A39: 合計 | AF39: =SUM(AF34:AM38) -> 1000000
A41: ２．障害福祉サービス事業所等に対するサービス継続支援事業（食事提供分） | AD41: 補助上限額 | AI41: 申請兼実績額
AD42: =IFERROR(VLOOKUP(L10,リスト!N2:Q39,4,FALSE)*AJ10,"") -> 60 | AG42: 千円 | AI42: =IF(AD42="","",MIN(AD42,ROUNDDOWN(AF50/1000,0))) -> 60 | AL42: 千円
A44: 品名 | H44: 用途 | AB44: 数量（単位） | AF44: 支出済額（円）※税抜き
A45: 食事提供委託料 | H45: 施設の食事提供のため（７月～９月分） | AB45: １式 | AF45: 5000000
A46: 食材一式 | H46: 施設の食事提供のため（７月） | AB46: １式 | AF46: 300000
A47: 食材一式 | H47: 施設の食事提供のため（8月） | AB47: １式 | AF47: 400000
A50: 合計 | AF50: =SUM(AF45:AM49) -> 5700000
A52: （注）申請兼実績額は、補助上限額と支出済額を比較していずれか低い方の額が入力される。

Sheet 利用者の延べ人数の算定方法
A1: １月あたり平均延べ利用者数の算定方法
A3: 通所系サービスの事業所規模は、令和７年４月サービス提供分から９月サービス提供分までの平均により判断すること。なお、令和７年１０月以降に新規開設した事業所については、開設後から３か月の報酬請求実績により判断すること。
A5: サービス種別 | B5: 算定方法
A6: 生活介護 | B6: 平均利用延人員数の計算に当たっては、３時間以上５時間未満の報酬を算定している利用者(３時間未満の報酬を算定している利用者を含む。)については、利用者数に２分の１を乗じて得た数とし、５時間以上７時間未満の報酬を算定している利用者については利用者数に４分の３を乗じて得た数とする。
A7: 生活介護以外 | B7: 平均利用延人員数の計算に当たっては、所要時間等による換算を行わない。

Sheet リスト
B1: 事業所・施設等の種別
A2: 1 | B2: 居宅介護 集合住宅併設型（同一建物減算の算定がある事業所） | C2: 200 | D2: /事業所 | H2: 1 | I2: 居宅介護 集合住宅併設型（同一建物減算の算定がある事業所） | J2: 200 | K2: /事業所 | M2: 7 | N2: 療養介護 1月あたり延べ利用者数300人以下 | O2: 200 | P2: /事業所 | Q2: 6 | R2: /定員
A3: 2 | B3: 居宅介護 集合住宅併設型（同一建物減算の算定がある事業所）以外 | C3: 300 | D3: /事業所 | H3: 2 | I3: 居宅介護 集合住宅併設型（同一建物減算の算定がある事業所）以外 | J3: 300 | K3: /事業所 | M3: 8 | N3: 療養介護 1月あたり延べ利用者数301人以上600人以下 | O3: 300 | P3: /事業所 | Q3: 6 | R3: /定員
A4: 3 | B4: 重度訪問介護 | C4: 300 | D4: /事業所 | H4: 3 | I4: 重度訪問介護 | J4: 300 | K4: /事業所 | M4: 9 | N4: 療養介護 1月あたり延べ利用者数601人以上 | O4: 400 | P4: /事業所 | Q4: 6 | R4: /定員
A5: 4 | B5: 同行援護 | C5: 300 | D5: /事業所 | H5: 4 | I5: 同行援護 | J5: 300 | K5: /事業所 | M5: 10 | N5: 生活介護 1月あたり延べ利用者数300人以下 | O5: 200 | P5: /事業所 | Q5: 6 | R5: /定員
A6: 5 | B6: 行動援護 | C6: 300 | D6: /事業所 | H6: 5 | I6: 行動援護 | J6: 300 | K6: /事業所 | M6: 11 | N6: 生活介護 1月あたり延べ利用者数301人以上600人以下 | O6: 300 | P6: /事業所 | Q6: 6 | R6: /定員
A7: 6 | B7: 重度障害者等包括支援 | C7: 300 | D7: /事業所 | H7: 6 | I7: 重度障害者等包括支援 | J7: 300 | K7: /事業所 | M7: 12 | N7: 生活介護 1月あたり延べ利用者数601人以上 | O7: 400 | P7: /事業所 | Q7: 6 | R7: /定員
A8: 7 | B8: 療養介護 1月あたり延べ利用者数300人以下 | C8: 200 | D8: /事業所 | E8: 6 | F8: /定員 | H8: 7 | I8: 療養介護 1月あたり延べ利用者数300人以下 | J8: 200 | K8: /事業所 | M8: 13 | N8: 自立訓練（機能訓練） 1月あたり延べ利用者数300人以下 | O8: 200 | P8: /事業所 | Q8: 6 | R8: /定員
A9: 8 | B9: 療養介護 1月あたり延べ利用者数301人以上600人以下 | C9: 300 | D9: /事業所 | E9: 6 | F9: /定員 | H9: 8 | I9: 療養介護 1月あたり延べ利用者数301人以上600人以下 | J9: 300 | K9: /事業所 | M9: 14 | N9: 自立訓練（機能訓練） 1月あたり延べ利用者数301人以上600人以下 | O9: 300 | P9: /事業所 | Q9: 6 | R9: /定員
A10: 9 | B10: 療養介護 1月あたり延べ利用者数601人以上 | C10: 400 | D10: /事業所 | E10: 6 | F10: /定員 | H10: 9 | I10: 療養介護 1月あたり延べ利用者数601人以上 | J10: 400 | K10: /事業所 | M10: 15 | N10: 自立訓練（機能訓練） 1月あたり延べ利用者数601人以上 | O10: 400 | P10: /事業所 | Q10: 6 | R10: /定員
A11: 10 | B11: 生活介護 1月あたり延べ利用者数300人以下 | C11: 200 | D11: /事業所 | E11: 6 | F11: /定員 | H11: 10 | I11: 生活介護 1月あたり延べ利用者数300人以下 | J11: 200 | K11: /事業所 | M11: 16 | N11: 自立訓練（生活訓練） 1月あたり延べ利用者数300人以下 | O11: 200 | P11: /事業所 | Q11: 6 | R11: /定員
A12: 11 | B12: 生活介護 1月あたり延べ利用者数301人以上600人以下 | C12: 300 | D12: /事業所 | E12: 6 | F12: /定員 | H12: 11 | I12: 生活介護 1月あたり延べ利用者数301人以上600人以下 | J12: 300 | K12: /事業所 | M12: 17 | N12: 自立訓練（生活訓練） 1月あたり延べ利用者数301人以上600人以下 | O12: 300 | P12: /事業所 | Q12: 6 | R12: /定員
A13: 12 | B13: 生活介護 1月あたり延べ利用者数601人以上 | C13: 400 | D13: /事業所 | E13: 6 | F13: /定員 | H13: 12 | I13: 生活介護 1月あたり延べ利用者数601人以上 | J13: 400 | K13: /事業所 | M13: 18 | N13: 自立訓練（生活訓練） 1月あたり延べ利用者数601人以上 | O13: 400 | P13: /事業所 | Q13: 6 | R13: /定員
A14: 13 | B14: 自立訓練（機能訓練） 1月あたり延べ利用者数300人以下 | C14: 200 | D14: /事業所 | E14: 6 | F14: /定員 | H14: 13 | I14: 自立訓練（機能訓練） 1月あたり延べ利用者数300人以下 | J14: 200 | K14: /事業所 | M14: 22 | N14: 就労選択支援 1月あたり延べ利用者数300人以下 | O14: 200 | P14: /事業所 | Q14: 6 | R14: /定員
A15: 14 | B15: 自立訓練（機能訓練） 1月あたり延べ利用者数301人以上600人以下 | C15: 300 | D15: /事業所 | E15: 6 | F15: /定員 | H15: 14 | I15: 自立訓練（機能訓練） 1月あたり延べ利用者数301人以上600人以下 | J15: 300 | K15: /事業所 | M15: 23 | N15: 就労選択支援 1月あたり延べ利用者数301人以上600人以下 | O15: 300 | P15: /事業所 | Q15: 6 | R15: /定員
A16: 15 | B16: 自立訓練（機能訓練） 1月あたり延べ利用者数601人以上 | C16: 400 | D16: /事業所 | E16: 6 | F16: /定員 | H16: 15 | I16: 自立訓練（機能訓練） 1月あたり延べ利用者数601人以上 | J16: 400 | K16: /事業所 | M16: 24 | N16: 就労選択支援 1月あたり延べ利用者数601人以上 | O16: 400 | P16: /事業所 | Q16: 6 | R16: /定員
A17: 16 | B17: 自立訓練（生活訓練） 1月あたり延べ利用者数300人以下 | C17: 200 | D17: /事業所 | E17: 6 | F17: /定員 | H17: 16 | I17: 自立訓練（生活訓練） 1月あたり延べ利用者数300人以下 | J17: 200 | K17: /事業所 | M17: 25 | N17: 就労移行支援 1月あたり延べ利用者数300人以下 | O17: 200 | P17: /事業所 | Q17: 6 | R17: /定員
A18: 17 | B18: 自立訓練（生活訓練） 1月あたり延べ利用者数301人以上600人以下 | C18: 300 | D18: /事業所 | E18: 6 | F18: /定員 | H18: 17 | I18: 自立訓練（生活訓練） 1月あたり延べ利用者数301人以上600人以下 | J18: 300 | K18: /事業所 | M18: 26 | N18: 就労移行支援 1月あたり延べ利用者数301人以上600人以下 | O18: 300 | P18: /事業所 | Q18: 6 | R18: /定員
A19: 18 | B19: 自立訓練（生活訓練） 1月あたり延べ利用者数601人以上 | C19: 400 | D19: /事業所 | E19: 6 | F19: /定員 | H19: 18 | I19: 自立訓練（生活訓練） 1月あたり延べ利用者数601人以上 | J19: 400 | K19: /事業所 | M19: 27 | N19: 就労移行支援 1月あたり延べ利用者数601人以上 | O19: 400 | P19: /事業所 | Q19: 6 | R19: /定員
... A38: 37 | B38: 共同生活援助 | C38: 200 | D38: /事業所 | E38: 18 | F38: /定員 | H38: 42 | I38: 地域定着支援 | J38: 200 | K38: /事業所 | M38: 46 | N38: 放課後等デイサービス 1月あたり延べ利用者数601人以上 | O38: 400 | P38: /事業所 | Q38: 6 | R38: /定員
A39: 38 | B39: 地域移行支援 | C39: 200 | D39: /事業所 | H39: 43 | I39: 計画相談支援 | J39: 200 | K39: /事業所 | M39: 47 | N39: 障害児入所施設 | O39: 6 | P39: /定員 | Q39: 18 | R39: /定員
A40: 39 | B40: 地域定着支援 | C40: 200 | D40: /事業所 | H40: 44 | I40: 居宅訪問型児童発達支援 | J40: 300 | K40: /事業所
A41: 40 | B41: 計画相談支援 | C41: 200 | D41: /事業所 | H41: 45 | I41: 保育所等訪問支援 | J41: 300 | K41: /事業所
A42: 41 | B42: 居宅訪問型児童発達支援 | C42: 300 | D42: /事業所 | H42: 46 | I42: 児童発達支援 1月あたり延べ利用者数300人以下 | J42: 200 | K42: /事業所
A43: 42 | B43: 保育所等訪問支援 | C43: 300 | D43: /事業所 | H43: 47 | I43: 児童発達支援 1月あたり延べ利用者数301人以上600人以下 | J43: 300 | K43: /事業所
A44: 43 | B44: 児童発達支援 1月あたり延べ利用者数300人以下 | C44: 200 | D44: /事業所 | E44: 6 | F44: /定員 | H44: 48 | I44: 児童発達支援 1月あたり延べ利用者数601人以上 | J44: 400 | K44: /事業所
A45: 44 | B45: 児童発達支援 1月あたり延べ利用者数301人以上600人以下 | C45: 300 | D45: /事業所 | E45: 6 | F45: /定員 | H45: 49 | I45: 放課後等デイサービス 1月あたり延べ利用者数300人以下 | J45: 200 | K45: /事業所
A46: 45 | B46: 児童発達支援 1月あたり延べ利用者数601人以上 | C46: 400 | D46: /事業所 | E46: 6 | F46: /定員 | H46: 50 | I46: 放課後等デイサービス 1月あたり延べ利用者数301人以上600人以下 | J46: 300 | K46: /事業所
A47: 46 | B47: 放課後等デイサービス 1月あたり延べ利用者数300人以下 | C47: 200 | D47: /事業所 | E47: 6 | F47: /定員 | H47: 51 | I47: 放課後等デイサービス 1月あたり延べ利用者数601人以上 | J47: 400 | K47: /事業所
A48: 47 | B48: 放課後等デイサービス 1月あたり延べ利用者数301人以上600人以下 | C48: 300 | D48: /事業所 | E48: 6 | F48: /定員 | H48: 53 | I48: 障害児相談支援 | J48: 200 | K48: /事業所
A49: 48 | B49: 放課後等デイサービス 1月あたり延べ利用者数601人以上 | C49: 400 | D49: /事業所 | E49: 6 | F49: /定員 | H49: 37 | I49: 施設入所支援 | J49: 6 | K49: /定員
A50: 49 | B50: 障害児入所施設 | C50: 6 | D50: /定員 | E50: 18 | F50: /定員 | H50: 38 | I50: 短期入所（空床型を除く） | J50: 6 | K50: /定員
A51: 50 | B51: 障害児相談支援 | C51: 200 | D51: /事業所 | H51: 52 | I51: 障害児入所施設 | J51: 6 | K51: /定員
